BEGIN:VCALENDAR
VERSION:2.0
PRODID:-//Schafberg-Meckerer Schafhausen e.V. - ECPv6.15.11//NONSGML v1.0//EN
CALSCALE:GREGORIAN
METHOD:PUBLISH
X-ORIGINAL-URL:https://schafberg-meckerer.de
X-WR-CALDESC:Veranstaltungen für Schafberg-Meckerer Schafhausen e.V.
REFRESH-INTERVAL;VALUE=DURATION:PT1H
X-Robots-Tag:noindex
X-PUBLISHED-TTL:PT1H
BEGIN:VTIMEZONE
TZID:Europe/Berlin
BEGIN:DAYLIGHT
TZOFFSETFROM:+0100
TZOFFSETTO:+0200
TZNAME:CEST
DTSTART:20230326T010000
END:DAYLIGHT
BEGIN:STANDARD
TZOFFSETFROM:+0200
TZOFFSETTO:+0100
TZNAME:CET
DTSTART:20231029T010000
END:STANDARD
BEGIN:DAYLIGHT
TZOFFSETFROM:+0100
TZOFFSETTO:+0200
TZNAME:CEST
DTSTART:20240331T010000
END:DAYLIGHT
BEGIN:STANDARD
TZOFFSETFROM:+0200
TZOFFSETTO:+0100
TZNAME:CET
DTSTART:20241027T010000
END:STANDARD
BEGIN:DAYLIGHT
TZOFFSETFROM:+0100
TZOFFSETTO:+0200
TZNAME:CEST
DTSTART:20250330T010000
END:DAYLIGHT
BEGIN:STANDARD
TZOFFSETFROM:+0200
TZOFFSETTO:+0100
TZNAME:CET
DTSTART:20251026T010000
END:STANDARD
END:VTIMEZONE
BEGIN:VEVENT
DTSTART;TZID=Europe/Berlin:20240106T170000
DTEND;TZID=Europe/Berlin:20240106T233000
DTSTAMP:20260419T203808
CREATED:20231214T203719Z
LAST-MODIFIED:20231214T203719Z
UID:2365-1704560400-1704583800@schafberg-meckerer.de
SUMMARY:Maskenabstauben
DESCRIPTION:
URL:https://schafberg-meckerer.de/termin/maskenabstauben-4/
CATEGORIES:Veranstaltung
END:VEVENT
BEGIN:VEVENT
DTSTART;TZID=Europe/Berlin:20240112T175900
DTEND;TZID=Europe/Berlin:20240112T233000
DTSTAMP:20260419T203808
CREATED:20231214T203824Z
LAST-MODIFIED:20231214T203824Z
UID:2367-1705082340-1705102200@schafberg-meckerer.de
SUMMARY:Schäfertaufe
DESCRIPTION:
URL:https://schafberg-meckerer.de/termin/schaefertaufe-3/
CATEGORIES:Veranstaltung
END:VEVENT
BEGIN:VEVENT
DTSTART;TZID=Europe/Berlin:20240113T173000
DTEND;TZID=Europe/Berlin:20240113T233000
DTSTAMP:20260419T203808
CREATED:20231214T203902Z
LAST-MODIFIED:20231214T203902Z
UID:2369-1705167000-1705188600@schafberg-meckerer.de
SUMMARY:Nachtumzug Schellbronn
DESCRIPTION:
URL:https://schafberg-meckerer.de/termin/nachtumzug-schellbronn-2/
CATEGORIES:Veranstaltung
END:VEVENT
BEGIN:VEVENT
DTSTART;TZID=Europe/Berlin:20240120T180000
DTEND;TZID=Europe/Berlin:20240120T233000
DTSTAMP:20260419T203808
CREATED:20231214T203937Z
LAST-MODIFIED:20231214T203937Z
UID:2371-1705773600-1705793400@schafberg-meckerer.de
SUMMARY:Nachtumzug Rangendingen
DESCRIPTION:
URL:https://schafberg-meckerer.de/termin/nachtumzug-rangendingen/
CATEGORIES:Veranstaltung
END:VEVENT
BEGIN:VEVENT
DTSTART;TZID=Europe/Berlin:20240121T130000
DTEND;TZID=Europe/Berlin:20240121T233000
DTSTAMP:20260419T203808
CREATED:20231214T204001Z
LAST-MODIFIED:20231214T204001Z
UID:2373-1705842000-1705879800@schafberg-meckerer.de
SUMMARY:Umzug Dettingen
DESCRIPTION:
URL:https://schafberg-meckerer.de/termin/umzug-dettingen-2/
CATEGORIES:Veranstaltung
END:VEVENT
BEGIN:VEVENT
DTSTART;TZID=Europe/Berlin:20240125T060000
DTEND;TZID=Europe/Berlin:20240128T233000
DTSTAMP:20260419T203808
CREATED:20231214T204037Z
LAST-MODIFIED:20231214T204037Z
UID:2375-1706162400-1706484600@schafberg-meckerer.de
SUMMARY:Euro Carneval Italien
DESCRIPTION:
URL:https://schafberg-meckerer.de/termin/euro-carneval-italien/
CATEGORIES:Veranstaltung
END:VEVENT
BEGIN:VEVENT
DTSTART;TZID=Europe/Berlin:20240126T200000
DTEND;TZID=Europe/Berlin:20240126T233000
DTSTAMP:20260419T203808
CREATED:20231214T204115Z
LAST-MODIFIED:20231214T204115Z
UID:2377-1706299200-1706311800@schafberg-meckerer.de
SUMMARY:Hallenveranstaltung Dachtel
DESCRIPTION:
URL:https://schafberg-meckerer.de/termin/hallenveranstaltung-dachtel/
CATEGORIES:Hallenveranstaltung
END:VEVENT
BEGIN:VEVENT
DTSTART;TZID=Europe/Berlin:20240127T200000
DTEND;TZID=Europe/Berlin:20240127T233000
DTSTAMP:20260419T203808
CREATED:20231214T204144Z
LAST-MODIFIED:20231214T204144Z
UID:2379-1706385600-1706398200@schafberg-meckerer.de
SUMMARY:Hallenveranstaltung Althengstett
DESCRIPTION:
URL:https://schafberg-meckerer.de/termin/hallenveranstaltung-althengstett/
CATEGORIES:Hallenveranstaltung
END:VEVENT
END:VCALENDAR